BEGIN:VCALENDAR
VERSION:2.0
PRODID:-//RIGHTHERE//CALENDARIZE IT V3.2//EN
BEGIN:VEVENT
UID:4899-events@www.fnent.co.kr
DTSTART;VALUE=DATE:20210216
DTEND;VALUE=DATE:20210216
SUMMARY:[문희경] 비디오스타 236화
URL:http://www.fnent.co.kr/events/%eb%ac%b8%ed%9d%ac%ea%b2%bd-%eb%b9%84%eb%94%94%ec%98%a4%ec%8a%a4%ed%83%80-236%ed%99%94/
END:VEVENT
END:VCALENDAR