BEGIN:VCALENDAR
VERSION:2.0
PRODID:-//RIGHTHERE//CALENDARIZE IT V3.2//EN
BEGIN:VEVENT
UID:4897-events@www.fnent.co.kr
DTSTART;VALUE=DATE:20201208
DTEND;VALUE=DATE:20201208
SUMMARY:[진이한] 비디오스타 226화
URL:http://www.fnent.co.kr/events/%ec%a7%84%ec%9d%b4%ed%95%9c-%eb%b9%84%eb%94%94%ec%98%a4%ec%8a%a4%ed%83%80-226%ed%99%94/
END:VEVENT
END:VCALENDAR