BEGIN:VCALENDAR
VERSION:2.0
PRODID:-//RIGHTHERE//CALENDARIZE IT V3.2//EN
BEGIN:VEVENT
UID:4895-events@www.fnent.co.kr
DTSTART;VALUE=DATE:20210215
DTEND;VALUE=DATE:20210215
SUMMARY:[홍수현] 생일축하해요♡
URL:http://www.fnent.co.kr/events/%ed%99%8d%ec%88%98%ed%98%84-%ec%83%9d%ec%9d%bc%ec%b6%95%ed%95%98%ed%95%b4%ec%9a%94%e2%99%a1/
END:VEVENT
END:VCALENDAR