BEGIN:VCALENDAR
VERSION:2.0
PRODID:-//RIGHTHERE//CALENDARIZE IT V3.2//EN
BEGIN:VEVENT
UID:4831-events@www.fnent.co.kr
DTSTART;VALUE=DATE:20210113
DTEND;VALUE=DATE:20210113
SUMMARY:[홍수현] 바람피면 죽는다 11회
URL:http://www.fnent.co.kr/events/%ed%99%8d%ec%88%98%ed%98%84%ec%9d%b4%ed%83%9c%ea%b5%ac-%eb%b0%94%eb%9e%8c%ed%94%bc%eb%a9%b4-%ec%a3%bd%eb%8a%94%eb%8b%a4-11%ed%9a%8c/
END:VEVENT
END:VCALENDAR