BEGIN:VCALENDAR
VERSION:2.0
PRODID:-//RIGHTHERE//CALENDARIZE IT V3.2//EN
BEGIN:VEVENT
UID:3361-events@www.fnent.co.kr
DTSTART;VALUE=DATE:20200426
DTEND;VALUE=DATE:20200426
SUMMARY:[장서경]루갈 10회
URL:http://www.fnent.co.kr/events/%ec%9e%a5%ec%84%9c%ea%b2%bd%eb%a3%a8%ea%b0%88-10%ed%9a%8c/
END:VEVENT
END:VCALENDAR