BEGIN:VCALENDAR
VERSION:2.0
PRODID:-//RIGHTHERE//CALENDARIZE IT V3.2//EN
BEGIN:VEVENT
UID:3299-events@www.fnent.co.kr
DTSTART;VALUE=DATE:20200314
DTEND;VALUE=DATE:20200314
SUMMARY:[고은민]하이바이마마 7회
URL:http://www.fnent.co.kr/events/%ea%b3%a0%ec%9d%80%eb%af%bc%ed%95%98%ec%9d%b4%eb%b0%94%ec%9d%b4%eb%a7%88%eb%a7%88-7%ed%9a%8c/
END:VEVENT
END:VCALENDAR